BEGIN:VCALENDAR
VERSION:2.0
PRODID:-//3nity.com//3nity CMS//EN
BEGIN:VEVENT
SUMMARY:Bible Study
UID:2026-07-18-1206441@www.mountzionbclittlerock.org
SEQUENCE:0
STATUS:CONFIRMED
DTSTART:20260211T190000
DTEND:20260211T200000
DTSTAMP:20161222T120000
DESCRIPTION:Please join us for Bible Study each Wednesday in-person in the Fellowship Hall at Mt. Zion Baptist Church.\n\nLessons are taught by Sr. Pastor, Rev. Dr. Milton R. Graham and Rev. Theodis Howard.\n\nStreaming links for Bible Study:\n\nFacebook:\nhttps:/www.facebook.com/MountZionBCLR\n\nYouTube:\nhttps:/www.youtube.com/@mountzionbclittlerock
URL:http://www.mountzionbclittlerock.org
END:VEVENT
END:VCALENDAR
